BEGIN:VCALENDAR
VERSION:2.0
PRODID:-//SKR - Swiss Karatedo Renmei Yudanshakai//NONSGML kigkonsult.se iC
 alcreator 2.30.10//
CALSCALE:GREGORIAN
METHOD:PUBLISH
UID:0eccec71-bfc6-497a-b5c4-7b806036f7d2
X-WR-CALNAME:iCagenda
X-WR-CALDESC:Event Management Extension for Joomla!
X-WR-RELCALID:3E26604A-50F4-4449-8B3E-E4F4932D05B5
X-WR-TIMEZONE:Europe/Zurich
BEGIN:VTIMEZONE
TZID:Europe/Zurich
BEGIN:STANDARD
TZNAME:CET
DTSTART:20251026T030000
TZOFFSETFROM:+0200
TZOFFSETTO:+0100
RDATE:20261025T030000
END:STANDARD
BEGIN:DAYLIGHT
TZNAME:CEST
DTSTART:20250330T020000
TZOFFSETFROM:+0100
TZOFFSETTO:+0200
RDATE:20260329T020000
RDATE:20270328T020000
END:DAYLIGHT
END:VTIMEZONE
BEGIN:VEVENT
UID:90b7ff41-cfc6-4792-be26-93befa71dcd9
DTSTAMP:20260422T093351Z
CATEGORIES:Turnier
CLASS:PUBLIC
DESCRIPTION:
DTSTART:20260329T060000Z
DTEND:20260329T180000Z
GEO:00;0
LOCATION:Dagmersellen
ORGANIZER;CN=:andrea.brunner@karateschulelangnau.ch
SEQUENCE:1
SUMMARY:Frühlingsturnier
TRANSP:OPAQUE
URL:https://jka-karate.ch/cms/index.php/news-termine/veranstaltungen/180-fr
 uehlingsturnier-2026
END:VEVENT
END:VCALENDAR
